BEGIN:VCALENDAR
VERSION:2.0
PRODID:icalendar-ruby
CALSCALE:GREGORIAN
METHOD:PUBLISH
BEGIN:VEVENT
DTSTAMP:20260424T023448Z
UID:5-396251@fccasheville.org
DTSTART:20260830T143000Z
DTEND:20260830T153000Z
CLASS:PUBLIC
CREATED:20260423T195505
DESCRIPTION:Sunday Worship
LAST-MODIFIED:20260423T195505
LOCATION:
SUMMARY:Sunday Worship
URL;VALUE=URI:https://www.fccasheville.org/events/sunday-worship/2026-08-30
END:VEVENT
END:VCALENDAR
