BEGIN:VCALENDAR
VERSION:2.0
PRODID:icalendar-ruby
CALSCALE:GREGORIAN
METHOD:PUBLISH
BEGIN:VEVENT
DTSTAMP:20260424T065856Z
UID:5-396515@fccasheville.org
DTSTART:20260920T143000Z
DTEND:20260920T153000Z
CLASS:PUBLIC
CREATED:20260423T224931
DESCRIPTION:Sunday Worship
LAST-MODIFIED:20260423T224931
LOCATION:
SUMMARY:Sunday Worship
URL;VALUE=URI:https://www.fccasheville.org/events/sunday-worship/2026-09-20
END:VEVENT
END:VCALENDAR
