BEGIN:VCALENDAR
VERSION:2.0
PRODID:icalendar-ruby
CALSCALE:GREGORIAN
METHOD:PUBLISH
BEGIN:VEVENT
DTSTAMP:20260424T171649Z
UID:5-397043@fccasheville.org
DTSTART:20261101T153000Z
DTEND:20261101T163000Z
CLASS:PUBLIC
CREATED:20260424T111038
DESCRIPTION:Sunday Worship
LAST-MODIFIED:20260424T111038
LOCATION:
SUMMARY:Sunday Worship
URL;VALUE=URI:https://www.fccasheville.org/events/sunday-worship/2026-11-01
END:VEVENT
END:VCALENDAR
